BEGIN:VCALENDAR
VERSION:2.0
PRODID:-//jEvents 2.0 for Joomla//EN
CALSCALE:GREGORIAN
METHOD:PUBLISH
BEGIN:VEVENT
UID:CSVConvertd3507d8ae1ae5a1d6762d25db6bf1b77
CATEGORIES:Vencimientos
CREATED:20230323T174808
SUMMARY:Vencimiento SIFERE - Convenio Multilateral - 02/2019 (CUIT 6 y 7)
DESCRIPTION:
DTSTAMP:20260421T132433
DTSTART;TZID=America/Argentina/Buenos_Aires;VALUE=DATE:20190319
DTEND;TZID=America/Argentina/Buenos_Aires;VALUE=DATE:20190320
SEQUENCE:0
TRANSP:OPAQUE
END:VEVENT
END:VCALENDAR