BEGIN:VCALENDAR
VERSION:2.0
PRODID:-//jEvents 2.0 for Joomla//EN
CALSCALE:GREGORIAN
METHOD:PUBLISH
BEGIN:VEVENT
UID:CSVConvertd2194166185b23e29e01b2e06f6d3db0
CATEGORIES:Vencimientos
CREATED:20230323T174808
SUMMARY:Vencimiento SIRCREB (Pago DDJJ - 1ra. decena Marzo)
DESCRIPTION:
DTSTAMP:20260421T132901
DTSTART;TZID=America/Argentina/Buenos_Aires;VALUE=DATE:20190315
DTEND;TZID=America/Argentina/Buenos_Aires;VALUE=DATE:20190316
SEQUENCE:0
TRANSP:OPAQUE
END:VEVENT
END:VCALENDAR