BEGIN:VCALENDAR
VERSION:2.0
PRODID:-//jEvents 2.0 for Joomla//EN
CALSCALE:GREGORIAN
METHOD:PUBLISH
BEGIN:VEVENT
UID:CSVConvertd0fe07a1e2da2d842d3b9ae0eed82baf
CATEGORIES:Vencimientos
CREATED:20230323T174808
SUMMARY:Vencimiento SIRCAR - 1ra Quincena - 12/2019 (CUIT 0 a 4)
DESCRIPTION:
DTSTAMP:20260421T132439
DTSTART;TZID=America/Argentina/Buenos_Aires;VALUE=DATE:20191223
DTEND;TZID=America/Argentina/Buenos_Aires;VALUE=DATE:20191224
SEQUENCE:0
TRANSP:OPAQUE
END:VEVENT
END:VCALENDAR