BEGIN:VCALENDAR
VERSION:2.0
PRODID:-//jEvents 2.0 for Joomla//EN
CALSCALE:GREGORIAN
METHOD:PUBLISH
BEGIN:VEVENT
UID:CSVConvertd04538c4bf10910b3b25843e694ae549
CATEGORIES:Vencimientos
CREATED:20230323T174808
SUMMARY:Vencimiento SIFERE - Convenio Multilateral - 10/2018(CUIT 0 A 2)
DESCRIPTION:
DTSTAMP:20260422T023331
DTSTART;TZID=America/Argentina/Buenos_Aires;VALUE=DATE:20181115
DTEND;TZID=America/Argentina/Buenos_Aires;VALUE=DATE:20181116
SEQUENCE:0
TRANSP:OPAQUE
END:VEVENT
END:VCALENDAR