BEGIN:VCALENDAR
VERSION:2.0
PRODID:-//jEvents 2.0 for Joomla//EN
CALSCALE:GREGORIAN
METHOD:PUBLISH
BEGIN:VEVENT
UID:CSVConvertce77f4da16840e339c0798bd594e190c
CATEGORIES:Vencimientos
CREATED:20230323T174808
SUMMARY:Vencimiento SIFERE - Convenio Multilateral - 11/2018(CUIT 8 A 9)
DESCRIPTION:
DTSTAMP:20260421T210018
DTSTART;TZID=America/Argentina/Buenos_Aires;VALUE=DATE:20181220
DTEND;TZID=America/Argentina/Buenos_Aires;VALUE=DATE:20181221
SEQUENCE:0
TRANSP:OPAQUE
END:VEVENT
END:VCALENDAR