BEGIN:VCALENDAR
VERSION:2.0
PRODID:-//jEvents 2.0 for Joomla//EN
CALSCALE:GREGORIAN
METHOD:PUBLISH
BEGIN:VEVENT
UID:CSVConvertcbf3648dda1f3df1e52c1eeea9c7d19d
CATEGORIES:Vencimientos
CREATED:20230323T174807
SUMMARY:Vencimiento SIRCREB (Pago DDJJ - 3ra. decena Agosto)
DESCRIPTION:
DTSTAMP:20260421T132843
DTSTART;TZID=America/Argentina/Buenos_Aires;VALUE=DATE:20190906
DTEND;TZID=America/Argentina/Buenos_Aires;VALUE=DATE:20190907
SEQUENCE:0
TRANSP:OPAQUE
END:VEVENT
END:VCALENDAR