BEGIN:VCALENDAR
VERSION:2.0
PRODID:-//jEvents 2.0 for Joomla//EN
CALSCALE:GREGORIAN
METHOD:PUBLISH
BEGIN:VEVENT
UID:CSVConvert011ff7d68bf0e9b07a07f73c1d53f86b
CATEGORIES:Vencimientos
CREATED:20230323T174736
SUMMARY:Vencimiento SIFERE - Convenio Multilateral - 10/2019 (CUIT 8 y 9)
DESCRIPTION:
DTSTAMP:20260421T153002
DTSTART;TZID=America/Argentina/Buenos_Aires;VALUE=DATE:20191121
DTEND;TZID=America/Argentina/Buenos_Aires;VALUE=DATE:20191122
SEQUENCE:0
TRANSP:OPAQUE
END:VEVENT
END:VCALENDAR