BEGIN:VCALENDAR
VERSION:2.0
PRODID:-//jEvents 2.0 for Joomla//EN
CALSCALE:GREGORIAN
METHOD:PUBLISH
BEGIN:VEVENT
UID:CSVConvert13479ff8d7b49014d8b08cee6ccd31d7
CATEGORIES:Vencimientos
CREATED:20260106T160630
SUMMARY:SIFERE - VENCIMIENTO Anticipo Mayo - Terminación CUIT 6 a 7
DESCRIPTION:
DTSTAMP:20260419T123614
DTSTART;TZID=America/Argentina/Buenos_Aires;VALUE=DATE:20260618
DTEND;TZID=America/Argentina/Buenos_Aires;VALUE=DATE:20260619
SEQUENCE:0
TRANSP:OPAQUE
END:VEVENT
END:VCALENDAR