BEGIN:VCALENDAR
VERSION:2.0
PRODID:-//jEvents 2.0 for Joomla//EN
CALSCALE:GREGORIAN
METHOD:PUBLISH
BEGIN:VEVENT
UID:CSVConverte794a0021e5d1ff36ecb4e0685776e1b
CATEGORIES:Vencimientos
CREATED:20260106T160630
SUMMARY:SIFERE - VENCIMIENTO Anticipo Mayo - Terminación CUIT 3 a 5
DESCRIPTION:
DTSTAMP:20260419T123614
DTSTART;TZID=America/Argentina/Buenos_Aires;VALUE=DATE:20260617
DTEND;TZID=America/Argentina/Buenos_Aires;VALUE=DATE:20260618
SEQUENCE:0
TRANSP:OPAQUE
END:VEVENT
END:VCALENDAR