BEGIN:VCALENDAR
VERSION:2.0
PRODID:-//jEvents 2.0 for Joomla//EN
CALSCALE:GREGORIAN
METHOD:PUBLISH
BEGIN:VEVENT
UID:CSVConvert8e4152a93b4dcc025130e468dddc1906
CATEGORIES:Vencimientos
CREATED:20260106T160630
SUMMARY:SIRCAR - VENCIMIENTO 2da QUINCENA Y MENSUAL MAYO - Terminación CUIT 0 al 4
DESCRIPTION:
DTSTAMP:20260419T123617
DTSTART;TZID=America/Argentina/Buenos_Aires;VALUE=DATE:20260605
DTEND;TZID=America/Argentina/Buenos_Aires;VALUE=DATE:20260606
SEQUENCE:0
TRANSP:OPAQUE
END:VEVENT
END:VCALENDAR