BEGIN:VCALENDAR
VERSION:2.0
PRODID:-//jEvents 2.0 for Joomla//EN
CALSCALE:GREGORIAN
METHOD:PUBLISH
BEGIN:VEVENT
UID:CSVConvert661539f661da922123ce6db0fc0082d6
CATEGORIES:Vencimientos
CREATED:20260106T160630
SUMMARY:SIFERE - VENCIMIENTO Anticipo Septiembre - Terminación CUIT 3 a 5
DESCRIPTION:
DTSTAMP:20260419T131422
DTSTART;TZID=America/Argentina/Buenos_Aires;VALUE=DATE:20261016
DTEND;TZID=America/Argentina/Buenos_Aires;VALUE=DATE:20261017
SEQUENCE:0
TRANSP:OPAQUE
END:VEVENT
END:VCALENDAR