BEGIN:VCALENDAR
VERSION:2.0
PRODID:-//jEvents 2.0 for Joomla//EN
CALSCALE:GREGORIAN
METHOD:PUBLISH
BEGIN:VEVENT
UID:CSVConvert63d793c8c2d68ac7f3b62009e32e05d4
CATEGORIES:Vencimientos
CREATED:20260106T160629
SUMMARY:SIRCREB - VENCIMIENTO PRESENTACION Y PAGO DDJJ 1ra DECENA MAYO
DESCRIPTION:
DTSTAMP:20260421T125442
DTSTART;TZID=America/Argentina/Buenos_Aires;VALUE=DATE:20260515
DTEND;TZID=America/Argentina/Buenos_Aires;VALUE=DATE:20260516
SEQUENCE:0
TRANSP:OPAQUE
END:VEVENT
END:VCALENDAR