BEGIN:VCALENDAR
VERSION:2.0
PRODID:-//jEvents 2.0 for Joomla//EN
CALSCALE:GREGORIAN
METHOD:PUBLISH
BEGIN:VEVENT
UID:CSVConvert7a140ceff70f782c3ce7471150895397
CATEGORIES:Vencimientos
CREATED:20260106T160629
SUMMARY:SIRCUPA - VENCIMIENTO PRESENTACION Y PAGO DDJJ 3ra DECENA SEPTIEMBRE
DESCRIPTION:
DTSTAMP:20260419T131845
DTSTART;TZID=America/Argentina/Buenos_Aires;VALUE=DATE:20261009
DTEND;TZID=America/Argentina/Buenos_Aires;VALUE=DATE:20261010
SEQUENCE:0
TRANSP:OPAQUE
END:VEVENT
END:VCALENDAR