BEGIN:VCALENDAR
VERSION:2.0
PRODID:-//jEvents 2.0 for Joomla//EN
CALSCALE:GREGORIAN
METHOD:PUBLISH
BEGIN:VEVENT
UID:CSVConvert906be8a71813e35f86e14e03b25c3e61
CATEGORIES:Vencimientos
CREATED:20260106T160629
SUMMARY:SIRCUPA - VENCIMIENTO PRESENTACION Y PAGO DDJJ 3ra DECENA OCTUBRE
DESCRIPTION:
DTSTAMP:20260419T131953
DTSTART;TZID=America/Argentina/Buenos_Aires;VALUE=DATE:20261105
DTEND;TZID=America/Argentina/Buenos_Aires;VALUE=DATE:20261106
SEQUENCE:0
TRANSP:OPAQUE
END:VEVENT
END:VCALENDAR