BEGIN:VCALENDAR
VERSION:2.0
PRODID:-//jEvents 2.0 for Joomla//EN
CALSCALE:GREGORIAN
METHOD:PUBLISH
BEGIN:VEVENT
UID:CSVConvertee8dcb98b5e1e0c54a4374b7948249ed
CATEGORIES:Vencimientos
CREATED:20260106T160629
SUMMARY:SIRCREB - VENCIMIENTO PRESENTACION Y PAGO DDJJ 2da DECENA OCTUBRE
DESCRIPTION:
DTSTAMP:20260421T085033
DTSTART;TZID=America/Argentina/Buenos_Aires;VALUE=DATE:20261027
DTEND;TZID=America/Argentina/Buenos_Aires;VALUE=DATE:20261028
SEQUENCE:0
TRANSP:OPAQUE
END:VEVENT
END:VCALENDAR