BEGIN:VCALENDAR
VERSION:2.0
PRODID:-//jEvents 2.0 for Joomla//EN
CALSCALE:GREGORIAN
METHOD:PUBLISH
BEGIN:VEVENT
UID:CSVConvert5a8739b403641b66a21edb5cf60a3cfc
CATEGORIES:Vencimientos
CREATED:20260106T160629
SUMMARY:SIRCREB - VENCIMIENTO PRESENTACION Y PAGO DDJJ 1ra DECENA JUNIO
DESCRIPTION:
DTSTAMP:20260419T123834
DTSTART;TZID=America/Argentina/Buenos_Aires;VALUE=DATE:20260619
DTEND;TZID=America/Argentina/Buenos_Aires;VALUE=DATE:20260620
SEQUENCE:0
TRANSP:OPAQUE
END:VEVENT
END:VCALENDAR