BEGIN:VCALENDAR
VERSION:2.0
PRODID:-//jEvents 2.0 for Joomla//EN
CALSCALE:GREGORIAN
METHOD:PUBLISH
BEGIN:VEVENT
UID:CSVConvert9326be2402ae84941c154db5ceb2b82b
CATEGORIES:Vencimientos
CREATED:20260106T160629
SUMMARY:SIRCAR - VENCIMIENTO 2da QUINCENA Y MENSUAL SEPTIEMBRE - Terminación CUIT 5 al 9
DESCRIPTION:
DTSTAMP:20260419T131516
DTSTART;TZID=America/Argentina/Buenos_Aires;VALUE=DATE:20261009
DTEND;TZID=America/Argentina/Buenos_Aires;VALUE=DATE:20261010
SEQUENCE:0
TRANSP:OPAQUE
END:VEVENT
END:VCALENDAR