BEGIN:VCALENDAR
VERSION:2.0
PRODID:-//jEvents 2.0 for Joomla//EN
CALSCALE:GREGORIAN
METHOD:PUBLISH
BEGIN:VEVENT
UID:CSVConvert29133f2970628420f105c1e1d050cff2
CATEGORIES:Vencimientos
CREATED:20260106T160629
SUMMARY:SIRCUPA - VENCIMIENTO PRESENTACION Y PAGO DDJJ 1ra DECENA AGOSTO
DESCRIPTION:
DTSTAMP:20260419T173903
DTSTART;TZID=America/Argentina/Buenos_Aires;VALUE=DATE:20260814
DTEND;TZID=America/Argentina/Buenos_Aires;VALUE=DATE:20260815
SEQUENCE:0
TRANSP:OPAQUE
END:VEVENT
END:VCALENDAR