BEGIN:VCALENDAR
VERSION:2.0
PRODID:-//jEvents 2.0 for Joomla//EN
CALSCALE:GREGORIAN
METHOD:PUBLISH
BEGIN:VEVENT
UID:CSVConvert678800844ac416e621e0ea1b9e948984
CATEGORIES:Vencimientos
CREATED:20260106T160629
SUMMARY:SIFERE - VENCIMIENTO Anticipo Septiembre - Terminación CUIT 8 a 9
DESCRIPTION:
DTSTAMP:20260421T121041
DTSTART;TZID=America/Argentina/Buenos_Aires;VALUE=DATE:20261020
DTEND;TZID=America/Argentina/Buenos_Aires;VALUE=DATE:20261021
SEQUENCE:0
TRANSP:OPAQUE
END:VEVENT
END:VCALENDAR