BEGIN:VCALENDAR
VERSION:2.0
PRODID:-//jEvents 2.0 for Joomla//EN
CALSCALE:GREGORIAN
METHOD:PUBLISH
BEGIN:VEVENT
UID:CSVConvertb658f483610ef56a35f11d93aa554b15
CATEGORIES:Vencimientos
CREATED:20260106T160629
SUMMARY:SIFERE - VENCIMIENTO Anticipo Julio - Terminación CUIT 0 a 2
DESCRIPTION:
DTSTAMP:20260419T160908
DTSTART;TZID=America/Argentina/Buenos_Aires;VALUE=DATE:20260814
DTEND;TZID=America/Argentina/Buenos_Aires;VALUE=DATE:20260815
SEQUENCE:0
TRANSP:OPAQUE
END:VEVENT
END:VCALENDAR