BEGIN:VCALENDAR
VERSION:2.0
PRODID:-//jEvents 2.0 for Joomla//EN
CALSCALE:GREGORIAN
METHOD:PUBLISH
BEGIN:VEVENT
UID:CSVConvertf5b4688f18d66e9483682e74b9583b35
CATEGORIES:Vencimientos
CREATED:20260106T160628
SUMMARY:SIRCAR - VENCIMIENTO 2da QUINCENA Y MENSUAL ABRIL - Terminación CUIT 0 al 4
DESCRIPTION:
DTSTAMP:20260421T101347
DTSTART;TZID=America/Argentina/Buenos_Aires;VALUE=DATE:20260508
DTEND;TZID=America/Argentina/Buenos_Aires;VALUE=DATE:20260509
SEQUENCE:0
TRANSP:OPAQUE
END:VEVENT
END:VCALENDAR