BEGIN:VCALENDAR
VERSION:2.0
PRODID:-//jEvents 2.0 for Joomla//EN
CALSCALE:GREGORIAN
METHOD:PUBLISH
BEGIN:VEVENT
UID:CSVConvert4d705373d2d80829fe8343ea544b7c43
CATEGORIES:Vencimientos
CREATED:20260106T160628
SUMMARY:SIRCREB - VENCIMIENTO PRESENTACION Y PAGO DDJJ 3ra DECENA ABRIL
DESCRIPTION:
DTSTAMP:20260421T101344
DTSTART;TZID=America/Argentina/Buenos_Aires;VALUE=DATE:20260508
DTEND;TZID=America/Argentina/Buenos_Aires;VALUE=DATE:20260509
SEQUENCE:0
TRANSP:OPAQUE
END:VEVENT
END:VCALENDAR