BEGIN:VCALENDAR
VERSION:2.0
PRODID:-//jEvents 2.0 for Joomla//EN
CALSCALE:GREGORIAN
METHOD:PUBLISH
BEGIN:VEVENT
UID:CSVConverte5addcbed132ad5c9d03cb69518ccbf2
CATEGORIES:Vencimientos
CREATED:20260106T160628
SUMMARY:SIFERE - VENCIMIENTO Anticipo Abril - Terminación CUIT 6 a 7
DESCRIPTION:
DTSTAMP:20260421T101412
DTSTART;TZID=America/Argentina/Buenos_Aires;VALUE=DATE:20260519
DTEND;TZID=America/Argentina/Buenos_Aires;VALUE=DATE:20260520
SEQUENCE:0
TRANSP:OPAQUE
END:VEVENT
END:VCALENDAR