BEGIN:VCALENDAR
VERSION:2.0
PRODID:-//jEvents 2.0 for Joomla//EN
CALSCALE:GREGORIAN
METHOD:PUBLISH
BEGIN:VEVENT
UID:CSVConvertd934c8ad44190a75a74cd595b3a080fa
CATEGORIES:Vencimientos
CREATED:20260106T160628
SUMMARY:SIRCAR - VENCIMIENTO 1ra QUINCENA MAYO - Terminación CUIT 5 al 9
DESCRIPTION:
DTSTAMP:20260423T083910
DTSTART;TZID=America/Argentina/Buenos_Aires;VALUE=DATE:20260522
DTEND;TZID=America/Argentina/Buenos_Aires;VALUE=DATE:20260523
SEQUENCE:0
TRANSP:OPAQUE
END:VEVENT
END:VCALENDAR