BEGIN:VCALENDAR
VERSION:2.0
PRODID:-//jEvents 2.0 for Joomla//EN
CALSCALE:GREGORIAN
METHOD:PUBLISH
BEGIN:VEVENT
UID:CSVConvert609a5184f093d493966fdc434d0ee415
CATEGORIES:Vencimientos
CREATED:20260106T160628
SUMMARY:SIRCAR - VENCIMIENTO 1ra QUINCENA JUNIO - Terminación CUIT 0 al 4
DESCRIPTION:
DTSTAMP:20260419T123748
DTSTART;TZID=America/Argentina/Buenos_Aires;VALUE=DATE:20260625
DTEND;TZID=America/Argentina/Buenos_Aires;VALUE=DATE:20260626
SEQUENCE:0
TRANSP:OPAQUE
END:VEVENT
END:VCALENDAR