BEGIN:VCALENDAR
VERSION:2.0
PRODID:-//jEvents 2.0 for Joomla//EN
CALSCALE:GREGORIAN
METHOD:PUBLISH
BEGIN:VEVENT
UID:CSVConvertaba4faf7a8b4fb2f5078b5c524966819
CATEGORIES:Vencimientos
CREATED:20260106T160628
SUMMARY:SIFERE - VENCIMIENTO Anticipo Julio - Terminación CUIT 8 a 9
DESCRIPTION:
DTSTAMP:20260419T161522
DTSTART;TZID=America/Argentina/Buenos_Aires;VALUE=DATE:20260820
DTEND;TZID=America/Argentina/Buenos_Aires;VALUE=DATE:20260821
SEQUENCE:0
TRANSP:OPAQUE
END:VEVENT
END:VCALENDAR