BEGIN:VCALENDAR
VERSION:2.0
PRODID:-//jEvents 2.0 for Joomla//EN
CALSCALE:GREGORIAN
METHOD:PUBLISH
BEGIN:VEVENT
UID:CSVConvert34ee58a1736fc74c806de5ad0d5d5adc
CATEGORIES:Vencimientos
CREATED:20260106T160628
SUMMARY:SIRTAC - VENCIMIENTO PRESENTACION Y PAGO DDJJ 1ra QUINCENA OCTUBRE
DESCRIPTION:
DTSTAMP:20260421T121139
DTSTART;TZID=America/Argentina/Buenos_Aires;VALUE=DATE:20261023
DTEND;TZID=America/Argentina/Buenos_Aires;VALUE=DATE:20261024
SEQUENCE:0
TRANSP:OPAQUE
END:VEVENT
END:VCALENDAR