BEGIN:VCALENDAR
VERSION:2.0
PRODID:-//jEvents 2.0 for Joomla//EN
CALSCALE:GREGORIAN
METHOD:PUBLISH
BEGIN:VEVENT
UID:CSVConvert5b3a840ffe347fa2a206823ec29e73ef
CATEGORIES:Vencimientos
CREATED:20260106T160628
SUMMARY:SIRCAR - VENCIMIENTO 2da QUINCENA Y MENSUAL OCTUBRE - Terminación CUIT 5 al 9
DESCRIPTION:
DTSTAMP:20260421T090921
DTSTART;TZID=America/Argentina/Buenos_Aires;VALUE=DATE:20261110
DTEND;TZID=America/Argentina/Buenos_Aires;VALUE=DATE:20261111
SEQUENCE:0
TRANSP:OPAQUE
END:VEVENT
END:VCALENDAR