BEGIN:VCALENDAR
VERSION:2.0
PRODID:-//jEvents 2.0 for Joomla//EN
CALSCALE:GREGORIAN
METHOD:PUBLISH
BEGIN:VEVENT
UID:CSVConvert45a7e5dddde0f8f2030f5812fcd62fba
CATEGORIES:Vencimientos
CREATED:20260106T160628
SUMMARY:SIRCAR - VENCIMIENTO 1ra QUINCENA OCTUBRE - Terminación CUIT 0 al 4
DESCRIPTION:
DTSTAMP:20260421T110336
DTSTART;TZID=America/Argentina/Buenos_Aires;VALUE=DATE:20261022
DTEND;TZID=America/Argentina/Buenos_Aires;VALUE=DATE:20261023
SEQUENCE:0
TRANSP:OPAQUE
END:VEVENT
END:VCALENDAR