BEGIN:VCALENDAR
VERSION:2.0
PRODID:-//jEvents 2.0 for Joomla//EN
CALSCALE:GREGORIAN
METHOD:PUBLISH
BEGIN:VEVENT
UID:CSVConvert4cdeffbc60e4cd0f31be4ca8b482d377
CATEGORIES:Vencimientos
CREATED:20260106T160627
SUMMARY:SIRCREB - VENCIMIENTO PRESENTACION Y PAGO DDJJ 1ra DECENA AGOSTO
DESCRIPTION:
DTSTAMP:20260419T160750
DTSTART;TZID=America/Argentina/Buenos_Aires;VALUE=DATE:20260814
DTEND;TZID=America/Argentina/Buenos_Aires;VALUE=DATE:20260815
SEQUENCE:0
TRANSP:OPAQUE
END:VEVENT
END:VCALENDAR