BEGIN:VCALENDAR
VERSION:2.0
PRODID:-//jEvents 2.0 for Joomla//EN
CALSCALE:GREGORIAN
METHOD:PUBLISH
BEGIN:VEVENT
UID:CSVConvertf4ba5fffdb3d5a3dc5937a54d7880c1e
CATEGORIES:Vencimientos
CREATED:20260106T160627
SUMMARY:SIRCAR - VENCIMIENTO 2da QUINCENA Y MENSUAL MAYO - Terminación CUIT 5 al 9
DESCRIPTION:
DTSTAMP:20260419T123659
DTSTART;TZID=America/Argentina/Buenos_Aires;VALUE=DATE:20260608
DTEND;TZID=America/Argentina/Buenos_Aires;VALUE=DATE:20260609
SEQUENCE:0
TRANSP:OPAQUE
END:VEVENT
END:VCALENDAR