BEGIN:VCALENDAR
VERSION:2.0
PRODID:-//jEvents 2.0 for Joomla//EN
CALSCALE:GREGORIAN
METHOD:PUBLISH
BEGIN:VEVENT
UID:CSVConvert6994a700363a5e66fcb420f4d7ce2171
CATEGORIES:Vencimientos
CREATED:20260106T160627
SUMMARY:SIRCAR - VENCIMIENTO 1ra QUINCENA JUNIO - Terminación CUIT 5 al 9
DESCRIPTION:
DTSTAMP:20260419T123745
DTSTART;TZID=America/Argentina/Buenos_Aires;VALUE=DATE:20260626
DTEND;TZID=America/Argentina/Buenos_Aires;VALUE=DATE:20260627
SEQUENCE:0
TRANSP:OPAQUE
END:VEVENT
END:VCALENDAR