BEGIN:VCALENDAR
VERSION:2.0
PRODID:-//jEvents 2.0 for Joomla//EN
CALSCALE:GREGORIAN
METHOD:PUBLISH
BEGIN:VEVENT
UID:CSVConvert7d5b0095b8decf22d9a5f241ff5158cc
CATEGORIES:Vencimientos
CREATED:20260106T160627
SUMMARY:SIFERE - VENCIMIENTO Anticipo Mayo - Terminación CUIT 0 a 2
DESCRIPTION:
DTSTAMP:20260419T123615
DTSTART;TZID=America/Argentina/Buenos_Aires;VALUE=DATE:20260616
DTEND;TZID=America/Argentina/Buenos_Aires;VALUE=DATE:20260617
SEQUENCE:0
TRANSP:OPAQUE
END:VEVENT
END:VCALENDAR