BEGIN:VCALENDAR
VERSION:2.0
PRODID:-//jEvents 2.0 for Joomla//EN
CALSCALE:GREGORIAN
METHOD:PUBLISH
BEGIN:VEVENT
UID:CSVConvert5e91d1f535494406d198eac7306fa9f8
CATEGORIES:Vencimientos
CREATED:20260106T160627
SUMMARY:SIRCUPA - VENCIMIENTO PRESENTACION Y PAGO DDJJ 1ra DECENA JUNIO
DESCRIPTION:
DTSTAMP:20260419T123701
DTSTART;TZID=America/Argentina/Buenos_Aires;VALUE=DATE:20260619
DTEND;TZID=America/Argentina/Buenos_Aires;VALUE=DATE:20260620
SEQUENCE:0
TRANSP:OPAQUE
END:VEVENT
END:VCALENDAR