BEGIN:VCALENDAR
VERSION:2.0
PRODID:-//jEvents 2.0 for Joomla//EN
CALSCALE:GREGORIAN
METHOD:PUBLISH
BEGIN:VEVENT
UID:CSVConvertd48b38acf8d699da3682e87fd7f68e5c
CATEGORIES:Vencimientos
CREATED:20260106T160627
SUMMARY:SIRCUPA - VENCIMIENTO PRESENTACION Y PAGO DDJJ 2da DECENA JUNIO
DESCRIPTION:
DTSTAMP:20260419T123659
DTSTART;TZID=America/Argentina/Buenos_Aires;VALUE=DATE:20260626
DTEND;TZID=America/Argentina/Buenos_Aires;VALUE=DATE:20260627
SEQUENCE:0
TRANSP:OPAQUE
END:VEVENT
END:VCALENDAR