BEGIN:VCALENDAR
VERSION:2.0
PRODID:-//jEvents 2.0 for Joomla//EN
CALSCALE:GREGORIAN
METHOD:PUBLISH
BEGIN:VEVENT
UID:CSVConvert82608aa5222924b49e1d95f2996809a3
CATEGORIES:Vencimientos
CREATED:20260106T160627
SUMMARY:SIRCREB - VENCIMIENTO PRESENTACION Y PAGO DDJJ 2da DECENA MAYO
DESCRIPTION:
DTSTAMP:20260421T101337
DTSTART;TZID=America/Argentina/Buenos_Aires;VALUE=DATE:20260528
DTEND;TZID=America/Argentina/Buenos_Aires;VALUE=DATE:20260529
SEQUENCE:0
TRANSP:OPAQUE
END:VEVENT
END:VCALENDAR