BEGIN:VCALENDAR
VERSION:2.0
PRODID:-//jEvents 2.0 for Joomla//EN
CALSCALE:GREGORIAN
METHOD:PUBLISH
BEGIN:VEVENT
UID:CSVConvert61612ff188d4896c0652f3b653a689d8
CATEGORIES:Vencimientos
CREATED:20260106T160627
SUMMARY:SIRCUPA - VENCIMIENTO PRESENTACION Y PAGO DDJJ 1ra DECENA MAYO
DESCRIPTION:
DTSTAMP:20260421T085255
DTSTART;TZID=America/Argentina/Buenos_Aires;VALUE=DATE:20260515
DTEND;TZID=America/Argentina/Buenos_Aires;VALUE=DATE:20260516
SEQUENCE:0
TRANSP:OPAQUE
END:VEVENT
END:VCALENDAR