BEGIN:VCALENDAR
VERSION:2.0
PRODID:-//jEvents 2.0 for Joomla//EN
CALSCALE:GREGORIAN
METHOD:PUBLISH
BEGIN:VEVENT
UID:CSVConverta9aa378510e304b94be5e654b975dd45
CATEGORIES:Vencimientos
CREATED:20260106T160626
SUMMARY:SIRCREB - VENCIMIENTO PRESENTACION Y PAGO DDJJ 3ra DECENA MAYO
DESCRIPTION:
DTSTAMP:20260419T123837
DTSTART;TZID=America/Argentina/Buenos_Aires;VALUE=DATE:20260605
DTEND;TZID=America/Argentina/Buenos_Aires;VALUE=DATE:20260606
SEQUENCE:0
TRANSP:OPAQUE
END:VEVENT
END:VCALENDAR