BEGIN:VCALENDAR
VERSION:2.0
PRODID:-//jEvents 2.0 for Joomla//EN
CALSCALE:GREGORIAN
METHOD:PUBLISH
BEGIN:VEVENT
UID:CSVConvert0dc3b00dc8c00dd9e0b426ab54f0afad
CATEGORIES:Vencimientos
CREATED:20260106T160626
SUMMARY:SIFERE - VENCIMIENTO DDJJ ANUAL PERIODO FISCAL 2025 (CM05) - Terminación CUIT 0 a 9
DESCRIPTION:
DTSTAMP:20260419T123613
DTSTART;TZID=America/Argentina/Buenos_Aires;VALUE=DATE:20260630
DTEND;TZID=America/Argentina/Buenos_Aires;VALUE=DATE:20260701
SEQUENCE:0
TRANSP:OPAQUE
END:VEVENT
END:VCALENDAR