BEGIN:VCALENDAR
VERSION:2.0
PRODID:-//jEvents 2.0 for Joomla//EN
CALSCALE:GREGORIAN
METHOD:PUBLISH
BEGIN:VEVENT
UID:CSVConvertfe41dc6bce94daeab6cd32d83138837d
CATEGORIES:Vencimientos
CREATED:20260106T160626
SUMMARY:SIFERE - VENCIMIENTO Anticipo Abril - Terminación CUIT 3 a 5
DESCRIPTION:
DTSTAMP:20260421T090642
DTSTART;TZID=America/Argentina/Buenos_Aires;VALUE=DATE:20260518
DTEND;TZID=America/Argentina/Buenos_Aires;VALUE=DATE:20260519
SEQUENCE:0
TRANSP:OPAQUE
END:VEVENT
END:VCALENDAR