BEGIN:VCALENDAR
VERSION:2.0
PRODID:-//jEvents 2.0 for Joomla//EN
CALSCALE:GREGORIAN
METHOD:PUBLISH
BEGIN:VEVENT
UID:CSVConvert8a1b47d0015dee31e8ce6d4ca6d25903
CATEGORIES:Vencimientos
CREATED:20260106T160626
SUMMARY:SIFERE - VENCIMIENTO Anticipo Julio - Terminación CUIT 6 a 7
DESCRIPTION:
DTSTAMP:20260419T161208
DTSTART;TZID=America/Argentina/Buenos_Aires;VALUE=DATE:20260819
DTEND;TZID=America/Argentina/Buenos_Aires;VALUE=DATE:20260820
SEQUENCE:0
TRANSP:OPAQUE
END:VEVENT
END:VCALENDAR