BEGIN:VCALENDAR
VERSION:2.0
PRODID:-//jEvents 2.0 for Joomla//EN
CALSCALE:GREGORIAN
METHOD:PUBLISH
BEGIN:VEVENT
UID:CSVConvert1fec60476ceb21e3a69f9257599a7276
CATEGORIES:Vencimientos
CREATED:20260106T160626
SUMMARY:SIFERE - VENCIMIENTO Anticipo Septiembre - Terminación CUIT 0 a 2
DESCRIPTION:
DTSTAMP:20260419T131730
DTSTART;TZID=America/Argentina/Buenos_Aires;VALUE=DATE:20261015
DTEND;TZID=America/Argentina/Buenos_Aires;VALUE=DATE:20261016
SEQUENCE:0
TRANSP:OPAQUE
END:VEVENT
END:VCALENDAR