BEGIN:VCALENDAR
VERSION:2.0
PRODID:-//jEvents 2.0 for Joomla//EN
CALSCALE:GREGORIAN
METHOD:PUBLISH
BEGIN:VEVENT
UID:CSVConvertc4c874f2cb7a1d68fdbd579f60b7b73f
CATEGORIES:Vencimientos
CREATED:20260106T160626
SUMMARY:SIRCUPA - VENCIMIENTO PRESENTACION Y PAGO DDJJ 2da DECENA OCTUBRE
DESCRIPTION:
DTSTAMP:20260421T085154
DTSTART;TZID=America/Argentina/Buenos_Aires;VALUE=DATE:20261027
DTEND;TZID=America/Argentina/Buenos_Aires;VALUE=DATE:20261028
SEQUENCE:0
TRANSP:OPAQUE
END:VEVENT
END:VCALENDAR