BEGIN:VCALENDAR
VERSION:2.0
PRODID:-//jEvents 2.0 for Joomla//EN
CALSCALE:GREGORIAN
METHOD:PUBLISH
BEGIN:VEVENT
UID:CSVConvert5027200c01b271a727f25e5c79382ad9
CATEGORIES:Vencimientos
CREATED:20241230T134458
SUMMARY:SIRTAC - VENCIMIENTO PAGO DDJJ 1ra QUINCENA AGOSTO 
DESCRIPTION:
DTSTAMP:20260421T085450
DTSTART;TZID=America/Argentina/Buenos_Aires;VALUE=DATE:20250826
DTEND;TZID=America/Argentina/Buenos_Aires;VALUE=DATE:20250827
SEQUENCE:0
TRANSP:OPAQUE
END:VEVENT
END:VCALENDAR