BEGIN:VCALENDAR
VERSION:2.0
PRODID:-//jEvents 2.0 for Joomla//EN
CALSCALE:GREGORIAN
METHOD:PUBLISH
BEGIN:VEVENT
UID:CSVConvertdcf98afff8af70adc6b2021c8d32edf1
CATEGORIES:Vencimientos
CREATED:20241230T134457
SUMMARY:SIRCREB - VENCIMIENTO PAGO DDJJ 1ra DECENA AGOSTO
DESCRIPTION:
DTSTAMP:20260421T085156
DTSTART;TZID=America/Argentina/Buenos_Aires;VALUE=DATE:20250818
DTEND;TZID=America/Argentina/Buenos_Aires;VALUE=DATE:20250819
SEQUENCE:0
TRANSP:OPAQUE
END:VEVENT
END:VCALENDAR