BEGIN:VCALENDAR
VERSION:2.0
PRODID:-//jEvents 2.0 for Joomla//EN
CALSCALE:GREGORIAN
METHOD:PUBLISH
BEGIN:VEVENT
UID:CSVConvertc2141162faf6e8aa6f1539d2a3a8ee2b
CATEGORIES:Vencimientos
CREATED:20241230T134456
SUMMARY:SIRCAR - VENCIMIENTO 1ra QUINCENA SEPTIEMBRE Díg. Verif. Cuit 5 al 9
DESCRIPTION:
DTSTAMP:20260421T085155
DTSTART;TZID=America/Argentina/Buenos_Aires;VALUE=DATE:20250923
DTEND;TZID=America/Argentina/Buenos_Aires;VALUE=DATE:20250924
SEQUENCE:0
TRANSP:OPAQUE
END:VEVENT
END:VCALENDAR