BEGIN:VCALENDAR
VERSION:2.0
PRODID:-//jEvents 2.0 for Joomla//EN
CALSCALE:GREGORIAN
METHOD:PUBLISH
BEGIN:VEVENT
UID:CSVConvert4a007f7c1ace1996c20e381985f68d95
CATEGORIES:Vencimientos
CREATED:20241230T134455
SUMMARY:SIRCAR - VENCIMIENTO 1ra QUINCENA AGOSTO Díg. Verif. Cuit 0 al 4
DESCRIPTION:
DTSTAMP:20260421T101256
DTSTART;TZID=America/Argentina/Buenos_Aires;VALUE=DATE:20250822
DTEND;TZID=America/Argentina/Buenos_Aires;VALUE=DATE:20250823
SEQUENCE:0
TRANSP:OPAQUE
END:VEVENT
END:VCALENDAR