BEGIN:VCALENDAR
VERSION:2.0
PRODID:-//jEvents 2.0 for Joomla//EN
CALSCALE:GREGORIAN
METHOD:PUBLISH
BEGIN:VEVENT
UID:CSVConverta85c5a9bb92775e11b059fcf99cf94a3
CATEGORIES:Vencimientos
CREATED:20241230T134455
SUMMARY:SIFERE - VENCIMIENTO Anticipo Junio - Díg. Verif. Cuit 3 a 5
DESCRIPTION:
DTSTAMP:20260421T085135
DTSTART;TZID=America/Argentina/Buenos_Aires;VALUE=DATE:20250716
DTEND;TZID=America/Argentina/Buenos_Aires;VALUE=DATE:20250717
SEQUENCE:0
TRANSP:OPAQUE
END:VEVENT
END:VCALENDAR