BEGIN:VCALENDAR
VERSION:2.0
PRODID:-//jEvents 2.0 for Joomla//EN
CALSCALE:GREGORIAN
METHOD:PUBLISH
BEGIN:VEVENT
UID:CSVConvertfa447941cec8606f6774421051746a58
CATEGORIES:Vencimientos
CREATED:20231213T173240
SUMMARY:SIRTAC - VENCIMIENTO PRESENTACION DDJJ 1ra QUINCENA SEPTIEMBRE 
DESCRIPTION:
DTSTAMP:20260419T161400
DTSTART;TZID=America/Argentina/Buenos_Aires;VALUE=DATE:20240924
DTEND;TZID=America/Argentina/Buenos_Aires;VALUE=DATE:20240925
SEQUENCE:0
TRANSP:OPAQUE
END:VEVENT
END:VCALENDAR