BEGIN:VCALENDAR
VERSION:2.0
PRODID:-//jEvents 2.0 for Joomla//EN
CALSCALE:GREGORIAN
METHOD:PUBLISH
BEGIN:VEVENT
UID:CSVConverte78587cb8a8df31b00944031aa008fc8
CATEGORIES:Vencimientos
CREATED:20231213T173240
SUMMARY:SIRTAC - VENCIMIENTO PAGO DDJJ 2da QUINCENA JULIO 
DESCRIPTION:
DTSTAMP:20260419T160750
DTSTART;TZID=America/Argentina/Buenos_Aires;VALUE=DATE:20240812
DTEND;TZID=America/Argentina/Buenos_Aires;VALUE=DATE:20240813
SEQUENCE:0
TRANSP:OPAQUE
END:VEVENT
END:VCALENDAR